BEGIN:VCALENDAR
VERSION:2.0
PRODID:-//UNIVERSITY OF TEXAS SCHOOL OF LAW//NONSGML Events Calendar v1.0//EN
X-WR-TIMEZONE:America/Chicago
BEGIN:VTIMEZONE
TZID:US/Central
X-LIC-LOCATION:America/Chicago
BEGIN:DAYLIGHT
TZOFFSETFROM:-0600
TZOFFSETTO:-0500
TZNAME:CDT
DTSTART:19700308T020000
RRULE:FREQ=YEARLY;BYMONTH=3;BYDAY=2SU
END:DAYLIGHT
BEGIN:STANDARD
TZOFFSETFROM:-0500
TZOFFSETTO:-0600
TZNAME:CST
DTSTART:19701101T020000
RRULE:FREQ=YEARLY;BYMONTH=11;BYDAY=1SU
END:STANDARD
END:VTIMEZONE
BEGIN:VEVENT
DTSTART;TZID=US/Central:20260114T115000
DTEND;VALUE=DATE-TIME;TZID=US/Central:20260114T131500

DTSTAMP:20260419T150300Z
CREATED:20251120T173600Z
LAST-MODIFIED:20251121T164800Z
UID:20260114T115000-85444@law.utexas.edu
SUMMARY:Lunch GPT with Wes Henderson
DESCRIPTION:<p>Wes Henderson is an AI Specialist for WWT, a large tech integrator, both for AI infrastructure and solutions. As a former IP/Patent lawyer with hands-on keyboard experience and an education in AI/ML (and a current UT Life Member), he has helped deploy AI across healthcare, oil and gas, utilities, airlines, retail, and more. Join Wes Henderson and the AILP Fellowship for a discussion about how AI integration and the law intersect in the business world. 
  </p>
  <p>Lunch will be provided. RSVP by 1/07/26. <a href="https://utexas.qualtrics.com/jfe/form/SV_8hUEQkGZdNgAZSe">https://utexas.qualtrics.com/jfe/form/SV_8hUEQkGZdNgAZSe</a>
  </p>\n\nIf you need an accommodation to participate in this event, please contact the event sponsor or the Texas Law Special Events Office at specialevents@law.utexas.edu no later than seven business days prior to the event. Speaker: Wes Henderson, A, WWT
X-ALT-DESC;FMTTYPE=text/html:<p>Wes Henderson is an AI Specialist for WWT, a large tech integrator, both for AI infrastructure and solutions. As a former IP/Patent lawyer with hands-on keyboard experience and an education in AI/ML (and a current UT Life Member), he has helped deploy AI across healthcare, oil and gas, utilities, airlines, retail, and more. Join Wes Henderson and the AILP Fellowship for a discussion about how AI integration and the law intersect in the business world. 
  </p>
  <p>Lunch will be provided. RSVP by 1/07/26. <a href="https://utexas.qualtrics.com/jfe/form/SV_8hUEQkGZdNgAZSe">https://utexas.qualtrics.com/jfe/form/SV_8hUEQkGZdNgAZSe</a>
  </p><p>If you need an accommodation to participate in this event, please contact the event
                                          event sponsor or the Texas Law Special Events Office at <a href="mailto:specialevents@law.utexas.edu">specialevents@law.utexas.edu</a> no later than seven business days prior to the event.</p> Speaker: Wes Henderson, A, WWT

LOCATION:CCJ 2.310 - Jury Room
URL:http://law.utexas.edu/calendar/2026/01/14/85444/
CLASS:PUBLIC
STATUS:CONFIRMED

END:VEVENT
END:VCALENDAR