BEGIN:VCALENDAR
VERSION:2.0
PRODID:-//UNIVERSITY OF TEXAS SCHOOL OF LAW//NONSGML Events Calendar v1.0//EN
X-WR-TIMEZONE:America/Chicago
BEGIN:VTIMEZONE
TZID:US/Central
X-LIC-LOCATION:America/Chicago
BEGIN:DAYLIGHT
TZOFFSETFROM:-0600
TZOFFSETTO:-0500
TZNAME:CDT
DTSTART:19700308T020000
RRULE:FREQ=YEARLY;BYMONTH=3;BYDAY=2SU
END:DAYLIGHT
BEGIN:STANDARD
TZOFFSETFROM:-0500
TZOFFSETTO:-0600
TZNAME:CST
DTSTART:19701101T020000
RRULE:FREQ=YEARLY;BYMONTH=11;BYDAY=1SU
END:STANDARD
END:VTIMEZONE
BEGIN:VEVENT
DTSTART;TZID=US/Central:20260114T153000
DTEND;VALUE=DATE-TIME;TZID=US/Central:20260114T163000

DTSTAMP:20260419T153100Z
CREATED:20260107T172500Z
LAST-MODIFIED:20260108T222400Z
UID:20260114T153000-85876@law.utexas.edu
SUMMARY:Public Interest Snack Hour
DESCRIPTION:<p>Chat with 2Ls and 3Ls about the Public Interest Career Fair application process and interview process. This is a great opportunity to get any and all of your questions about public interest applications answered before they are due and to get first-hand interview tips from people who have been in your shoes! Snacks will be provided. RSVP so we know how much to buy! RSVP: <a href="https://docs.google.com/forms/d/e/1FAIpQLScc7zZZR1HbiO57hXQdbLggkMxUsHkNuAgauEDg5KkGTnnlAQ/viewform?usp=publish-editor">https://docs.google.com/forms/d/e/1FAIpQLScc7zZZR1HbiO57hXQdbLggkMxUsHkNuAgauEDg5KkGTnnlAQ/viewform?usp=publish-editor</a>
  </p>\n\nIf you need an accommodation to participate in this event, please contact the event sponsor or the Texas Law Special Events Office at specialevents@law.utexas.edu no later than seven business days prior to the event.
X-ALT-DESC;FMTTYPE=text/html:<p>Chat with 2Ls and 3Ls about the Public Interest Career Fair application process and interview process. This is a great opportunity to get any and all of your questions about public interest applications answered before they are due and to get first-hand interview tips from people who have been in your shoes! Snacks will be provided. RSVP so we know how much to buy! RSVP: <a href="https://docs.google.com/forms/d/e/1FAIpQLScc7zZZR1HbiO57hXQdbLggkMxUsHkNuAgauEDg5KkGTnnlAQ/viewform?usp=publish-editor">https://docs.google.com/forms/d/e/1FAIpQLScc7zZZR1HbiO57hXQdbLggkMxUsHkNuAgauEDg5KkGTnnlAQ/viewform?usp=publish-editor</a>
  </p><p>If you need an accommodation to participate in this event, please contact the event
                                          event sponsor or the Texas Law Special Events Office at <a href="mailto:specialevents@law.utexas.edu">specialevents@law.utexas.edu</a> no later than seven business days prior to the event.</p>
CATEGORIES:Other
LOCATION:CCJ 2.300 - Jamail Pavilion
URL:http://law.utexas.edu/calendar/2026/01/14/85876/
CLASS:PUBLIC
STATUS:CONFIRMED
COMMENT:https://docs.google.com/forms/d/e/1FAIpQLScc7zZZR1HbiO57hXQdbLggkMxUsHkNuAgauEDg5KkGTnnlAQ/viewform?usp=publish-editor
END:VEVENT
END:VCALENDAR