BEGIN:VCALENDAR
VERSION:2.0
PRODID:-//UNIVERSITY OF TEXAS SCHOOL OF LAW//NONSGML Events Calendar v1.0//EN
X-WR-TIMEZONE:America/Chicago
BEGIN:VTIMEZONE
TZID:US/Central
X-LIC-LOCATION:America/Chicago
BEGIN:DAYLIGHT
TZOFFSETFROM:-0600
TZOFFSETTO:-0500
TZNAME:CDT
DTSTART:19700308T020000
RRULE:FREQ=YEARLY;BYMONTH=3;BYDAY=2SU
END:DAYLIGHT
BEGIN:STANDARD
TZOFFSETFROM:-0500
TZOFFSETTO:-0600
TZNAME:CST
DTSTART:19701101T020000
RRULE:FREQ=YEARLY;BYMONTH=11;BYDAY=1SU
END:STANDARD
END:VTIMEZONE
BEGIN:VEVENT
DTSTART;TZID=US/Central:20260115T180000
DTEND;VALUE=DATE-TIME;TZID=US/Central:20260115T200000

DTSTAMP:20260419T143900Z
CREATED:20251007T145900Z
LAST-MODIFIED:20251203T154500Z
UID:20260115T180000-84637@law.utexas.edu
SUMMARY:Graduating Class Dinner
DESCRIPTION:<p>Join your Class of 2026 classmates and Texas Law alumni for an evening that marks your transition from students to the Alumni Association. Enjoy dinner, drinks, and a toast to what’s ahead as you celebrate this milestone together!</p>\n\nIf you need an accommodation to participate in this event, please contact the event sponsor or the Texas Law Special Events Office at specialevents@law.utexas.edu no later than seven business days prior to the event.
X-ALT-DESC;FMTTYPE=text/html:<p>Join your Class of 2026 classmates and Texas Law alumni for an evening that marks your transition from students to the Alumni Association. Enjoy dinner, drinks, and a toast to what’s ahead as you celebrate this milestone together!</p><p>If you need an accommodation to participate in this event, please contact the event
                                          event sponsor or the Texas Law Special Events Office at <a href="mailto:specialevents@law.utexas.edu">specialevents@law.utexas.edu</a> no later than seven business days prior to the event.</p>
CATEGORIES:Dinner
LOCATION:Etter-Harbin Alumni Center<br>2110 San Jacinto Blvd<br>Austin, TX 78712
URL:http://law.utexas.edu/calendar/2026/01/15/84637/
CLASS:PUBLIC
STATUS:CONFIRMED

END:VEVENT
END:VCALENDAR