BEGIN:VCALENDAR
VERSION:2.0
PRODID:-//UNIVERSITY OF TEXAS SCHOOL OF LAW//NONSGML Events Calendar v1.0//EN
X-WR-TIMEZONE:America/Chicago
BEGIN:VTIMEZONE
TZID:US/Central
X-LIC-LOCATION:America/Chicago
BEGIN:DAYLIGHT
TZOFFSETFROM:-0600
TZOFFSETTO:-0500
TZNAME:CDT
DTSTART:19700308T020000
RRULE:FREQ=YEARLY;BYMONTH=3;BYDAY=2SU
END:DAYLIGHT
BEGIN:STANDARD
TZOFFSETFROM:-0500
TZOFFSETTO:-0600
TZNAME:CST
DTSTART:19701101T020000
RRULE:FREQ=YEARLY;BYMONTH=11;BYDAY=1SU
END:STANDARD
END:VTIMEZONE
BEGIN:VEVENT
DTSTART;TZID=US/Central:20260115
DTEND;TZID=US/Central:20260116
X-MICROSOFT-CDO-ALLDAYEVENT:TRUE
X-FUNAMBOL-ALLDAY:TRUE
DTSTAMP:20260419T103900Z
CREATED:20260107T191900Z
LAST-MODIFIED:20260107T192000Z
UID:20260115T080000-85897@law.utexas.edu
SUMMARY:2026 Capital Mitigation Skills Workshop
DESCRIPTION:<p>The Sixteenth Capital Mitigation Skills Workshop, which began in 2012, consists of a combination of lectures and interactive exercises designed to develop the basic skills required in the development of mitigation evidence in death penalty cases. Utilizing a case hypothetical, participants will brainstorm about potential mitigation themes and identify “red flags” requiring investigation. Life-history records will also be reviewed to identify these mitigation themes, hypotheses, questions, and investigative follow-up.  Interviewing exercises in small groups will cover a variety of areas, including trauma, the signs and symptoms of mental disorders, and cognitive impairments and adaptive deficits. Participants will be asked to interview a variety of different witnesses, including the client and to draft a declaration.  The seminar will also emphasize the importance of case organization and provide a sample of a basic mitigation tool kit (including genograms and chronologies).</p>\n\nIf you need an accommodation to participate in this event, please contact the event sponsor or the Texas Law Special Events Office at specialevents@law.utexas.edu no later than seven business days prior to the event.
X-ALT-DESC;FMTTYPE=text/html:<p>The Sixteenth Capital Mitigation Skills Workshop, which began in 2012, consists of a combination of lectures and interactive exercises designed to develop the basic skills required in the development of mitigation evidence in death penalty cases. Utilizing a case hypothetical, participants will brainstorm about potential mitigation themes and identify “red flags” requiring investigation. Life-history records will also be reviewed to identify these mitigation themes, hypotheses, questions, and investigative follow-up.  Interviewing exercises in small groups will cover a variety of areas, including trauma, the signs and symptoms of mental disorders, and cognitive impairments and adaptive deficits. Participants will be asked to interview a variety of different witnesses, including the client and to draft a declaration.  The seminar will also emphasize the importance of case organization and provide a sample of a basic mitigation tool kit (including genograms and chronologies).</p><p>If you need an accommodation to participate in this event, please contact the event
                                          event sponsor or the Texas Law Special Events Office at <a href="mailto:specialevents@law.utexas.edu">specialevents@law.utexas.edu</a> no later than seven business days prior to the event.</p>
CATEGORIES:Workshop / Training Program
LOCATION:CCJ 2.306 - Eidman Courtroom
URL:http://law.utexas.edu/calendar/2026/01/15/85897/
CLASS:PUBLIC
STATUS:CONFIRMED

END:VEVENT
END:VCALENDAR