BEGIN:VCALENDAR
VERSION:2.0
PRODID:-//UNIVERSITY OF TEXAS SCHOOL OF LAW//NONSGML Events Calendar v1.0//EN
X-WR-TIMEZONE:America/Chicago
BEGIN:VTIMEZONE
TZID:US/Central
X-LIC-LOCATION:America/Chicago
BEGIN:DAYLIGHT
TZOFFSETFROM:-0600
TZOFFSETTO:-0500
TZNAME:CDT
DTSTART:19700308T020000
RRULE:FREQ=YEARLY;BYMONTH=3;BYDAY=2SU
END:DAYLIGHT
BEGIN:STANDARD
TZOFFSETFROM:-0500
TZOFFSETTO:-0600
TZNAME:CST
DTSTART:19701101T020000
RRULE:FREQ=YEARLY;BYMONTH=11;BYDAY=1SU
END:STANDARD
END:VTIMEZONE
BEGIN:VEVENT
DTSTART;TZID=US/Central:20260203T115000
DTEND;VALUE=DATE-TIME;TZID=US/Central:20260203T125000

DTSTAMP:20260419T155300Z
CREATED:20251118T180300Z
LAST-MODIFIED:20260123T184900Z
UID:20260203T115000-85376@law.utexas.edu
SUMMARY:So, You Want to be a Tax Lawyer?
DESCRIPTION:<p>Please RSVP by Friday, January 30, on <a href="https://law-utexas.12twenty.com/events/30006101316985">TEX</a>.</p>
  <p>The State Bar of Texas Tax Section will present a panel discussion on the many career opportunities available within the area of tax law. Learn about federal and state tax, transactional and litigation tax practices, and public and private sector work. Lunch will be provided.</p>
  <p>Panelists:</p>
  <p>Abbey Garber (Holland &amp; Knight)</p>
  <p>Brian Giovannini (Haynes &amp; Boone)</p>
  <p>Charlie Lincoln (IRS Office of Chief Counsel</p>\n\nIf you need an accommodation to participate in this event, please contact the event sponsor or the Texas Law Special Events Office at specialevents@law.utexas.edu no later than seven business days prior to the event.
X-ALT-DESC;FMTTYPE=text/html:<p>Please RSVP by Friday, January 30, on <a href="https://law-utexas.12twenty.com/events/30006101316985">TEX</a>.</p>
  <p>The State Bar of Texas Tax Section will present a panel discussion on the many career opportunities available within the area of tax law. Learn about federal and state tax, transactional and litigation tax practices, and public and private sector work. Lunch will be provided.</p>
  <p>Panelists:</p>
  <p>Abbey Garber (Holland &amp; Knight)</p>
  <p>Brian Giovannini (Haynes &amp; Boone)</p>
  <p>Charlie Lincoln (IRS Office of Chief Counsel</p><p>If you need an accommodation to participate in this event, please contact the event
                                          event sponsor or the Texas Law Special Events Office at <a href="mailto:specialevents@law.utexas.edu">specialevents@law.utexas.edu</a> no later than seven business days prior to the event.</p>
CATEGORIES:Panel Discussion / Speaker Series
LOCATION:TNH 3.142 - Walker Classroom
URL:http://law.utexas.edu/calendar/2026/02/03/85376/
CLASS:PUBLIC
STATUS:CONFIRMED
COMMENT:Please contact Abbey gray, Career Counselor, at <a href="mailto:abbey.gray@law.utexas.edu">abbey.gray@law.utexas.edu</a>.
END:VEVENT
END:VCALENDAR