BEGIN:VCALENDAR
VERSION:2.0
PRODID:-//UNIVERSITY OF TEXAS SCHOOL OF LAW//NONSGML Events Calendar v1.0//EN
X-WR-TIMEZONE:America/Chicago
BEGIN:VTIMEZONE
TZID:US/Central
X-LIC-LOCATION:America/Chicago
BEGIN:DAYLIGHT
TZOFFSETFROM:-0600
TZOFFSETTO:-0500
TZNAME:CDT
DTSTART:19700308T020000
RRULE:FREQ=YEARLY;BYMONTH=3;BYDAY=2SU
END:DAYLIGHT
BEGIN:STANDARD
TZOFFSETFROM:-0500
TZOFFSETTO:-0600
TZNAME:CST
DTSTART:19701101T020000
RRULE:FREQ=YEARLY;BYMONTH=11;BYDAY=1SU
END:STANDARD
END:VTIMEZONE
BEGIN:VEVENT
DTSTART;TZID=US/Central:20260212T120000
DTEND;VALUE=DATE-TIME;TZID=US/Central:20260212T125000

DTSTAMP:20260419T161300Z
CREATED:20260211T192600Z
LAST-MODIFIED:20260211T192600Z
UID:20260212T120000-86817@law.utexas.edu
SUMMARY:Public Service Loan Forgiveness
DESCRIPTION:<p><a href="https://register.gotowebinar.com/register/3832600018847311709">Register online</a>.  As part of the Public Service Career Fair, you are invited to attend this practical and engaging presentation featuring attorney and advocate Heather Jarvis and covering: All the latest student loan updates Public Service Loan Forgiveness from A to Z; expert tips for navigating the student loan system; and a Q&amp;A. Sponsored by Career Services and the William Wayne Justice Center for Public Interest Law.</p>\n\nIf you need an accommodation to participate in this event, please contact the event sponsor or the Texas Law Special Events Office at specialevents@law.utexas.edu no later than seven business days prior to the event.
X-ALT-DESC;FMTTYPE=text/html:<p><a href="https://register.gotowebinar.com/register/3832600018847311709">Register online</a>.  As part of the Public Service Career Fair, you are invited to attend this practical and engaging presentation featuring attorney and advocate Heather Jarvis and covering: All the latest student loan updates Public Service Loan Forgiveness from A to Z; expert tips for navigating the student loan system; and a Q&amp;A. Sponsored by Career Services and the William Wayne Justice Center for Public Interest Law.</p><p>If you need an accommodation to participate in this event, please contact the event
                                          event sponsor or the Texas Law Special Events Office at <a href="mailto:specialevents@law.utexas.edu">specialevents@law.utexas.edu</a> no later than seven business days prior to the event.</p>
CATEGORIES:Symposium
LOCATION:Virtual
URL:http://law.utexas.edu/calendar/2026/02/12/86817/
CLASS:PUBLIC
STATUS:CONFIRMED
COMMENT:Please contact Mary Murphy, Career Counselor, at  <a href="mailto:mary.murphy@law.utexas.edu">mary.murphy@law.utexas.edu</a>.
END:VEVENT
END:VCALENDAR