BEGIN:VCALENDAR
VERSION:2.0
PRODID:-//UNIVERSITY OF TEXAS SCHOOL OF LAW//NONSGML Events Calendar v1.0//EN
X-WR-TIMEZONE:America/Chicago
BEGIN:VTIMEZONE
TZID:US/Central
X-LIC-LOCATION:America/Chicago
BEGIN:DAYLIGHT
TZOFFSETFROM:-0600
TZOFFSETTO:-0500
TZNAME:CDT
DTSTART:19700308T020000
RRULE:FREQ=YEARLY;BYMONTH=3;BYDAY=2SU
END:DAYLIGHT
BEGIN:STANDARD
TZOFFSETFROM:-0500
TZOFFSETTO:-0600
TZNAME:CST
DTSTART:19701101T020000
RRULE:FREQ=YEARLY;BYMONTH=11;BYDAY=1SU
END:STANDARD
END:VTIMEZONE
BEGIN:VEVENT
DTSTART;TZID=US/Central:20260216T115000
DTEND;VALUE=DATE-TIME;TZID=US/Central:20260216T125000

DTSTAMP:20260419T141200Z
CREATED:20260202T173900Z
LAST-MODIFIED:20260202T194200Z
UID:20260216T115000-86576@law.utexas.edu
SUMMARY:Lunch Talk: ‘Forever Tired’
DESCRIPTION:<p>UCLA Law Professor Sharon Dolovich will present new research on sleep deprivation inside American prisons, drawing from nationwide interviews with formerly incarcerated individuals and correctional officers. Her work examines how chronic sleep loss is built into daily prison life, the physical and psychological harms it causes, and what these conditions reveal about punishment, policy, and constitutional law.</p>
  <p>The event will feature a presentation followed by a moderated discussion and is co-sponsored by the Capital Punishment Center and the William Wayne Justice Center.</p>\n\nIf you need an accommodation to participate in this event, please contact the event sponsor or the Texas Law Special Events Office at specialevents@law.utexas.edu no later than seven business days prior to the event.
X-ALT-DESC;FMTTYPE=text/html:<p>UCLA Law Professor Sharon Dolovich will present new research on sleep deprivation inside American prisons, drawing from nationwide interviews with formerly incarcerated individuals and correctional officers. Her work examines how chronic sleep loss is built into daily prison life, the physical and psychological harms it causes, and what these conditions reveal about punishment, policy, and constitutional law.</p>
  <p>The event will feature a presentation followed by a moderated discussion and is co-sponsored by the Capital Punishment Center and the William Wayne Justice Center.</p><p>If you need an accommodation to participate in this event, please contact the event
                                          event sponsor or the Texas Law Special Events Office at <a href="mailto:specialevents@law.utexas.edu">specialevents@law.utexas.edu</a> no later than seven business days prior to the event.</p>
CATEGORIES:Panel Discussion / Speaker Series
LOCATION:TNH 2.111 - Sheffield-Massey Room
URL:http://law.utexas.edu/calendar/2026/02/16/86576/
CLASS:PUBLIC
STATUS:CONFIRMED

END:VEVENT
END:VCALENDAR