BEGIN:VCALENDAR
VERSION:2.0
PRODID:-//UNIVERSITY OF TEXAS SCHOOL OF LAW//NONSGML Events Calendar v1.0//EN
X-WR-TIMEZONE:America/Chicago
BEGIN:VTIMEZONE
TZID:US/Central
X-LIC-LOCATION:America/Chicago
BEGIN:DAYLIGHT
TZOFFSETFROM:-0600
TZOFFSETTO:-0500
TZNAME:CDT
DTSTART:19700308T020000
RRULE:FREQ=YEARLY;BYMONTH=3;BYDAY=2SU
END:DAYLIGHT
BEGIN:STANDARD
TZOFFSETFROM:-0500
TZOFFSETTO:-0600
TZNAME:CST
DTSTART:19701101T020000
RRULE:FREQ=YEARLY;BYMONTH=11;BYDAY=1SU
END:STANDARD
END:VTIMEZONE
BEGIN:VEVENT
DTSTART;TZID=US/Central:20260221T090000
DTEND;VALUE=DATE-TIME;TZID=US/Central:20260221T143000

DTSTAMP:20260419T192900Z
CREATED:20251215T194900Z
LAST-MODIFIED:20260129T194400Z
UID:20260221T090000-85678@law.utexas.edu
SUMMARY:Institute for Law and Leadership
DESCRIPTION:<p>The Center for Women in Law is hosting the Institute for Law and Leadership on Friday, February 20th, from 1 to 6 PM and Saturday, February 21st, from 9 AM to 2:30 PM. We are so excited to partner with the Women's Law Caucus for this event. All Texas Law students are invited to attend. Business casual dress is encouraged. </p>
  <p>Agenda includes
  - Welcome keynote “Confidence in the Courtroom and Beyond” with Justice Chari Kelly  
  - Navigating Crucial Conversations in the Legal Profession
  - A Seat at the Table: Presence &amp; Professional Etiquette
  - Smart Money, Strong Career
  - Free Professional Headshots for attendees!  </p>
  <p>And more!</p>
  <p>Conversations will be led by dynamic Texas lawyers from law practices in government, law firms and corporations. </p>
  <p>NOTE - Early registration is encouraged. Please help us get numbers for food and merchandise as soon as possible. </p>\n\nIf you need an accommodation to participate in this event, please contact the event sponsor or the Texas Law Special Events Office at specialevents@law.utexas.edu no later than seven business days prior to the event.
X-ALT-DESC;FMTTYPE=text/html:<p>The Center for Women in Law is hosting the Institute for Law and Leadership on Friday, February 20th, from 1 to 6 PM and Saturday, February 21st, from 9 AM to 2:30 PM. We are so excited to partner with the Women's Law Caucus for this event. All Texas Law students are invited to attend. Business casual dress is encouraged. </p>
  <p>Agenda includes
  - Welcome keynote “Confidence in the Courtroom and Beyond” with Justice Chari Kelly  
  - Navigating Crucial Conversations in the Legal Profession
  - A Seat at the Table: Presence &amp; Professional Etiquette
  - Smart Money, Strong Career
  - Free Professional Headshots for attendees!  </p>
  <p>And more!</p>
  <p>Conversations will be led by dynamic Texas lawyers from law practices in government, law firms and corporations. </p>
  <p>NOTE - Early registration is encouraged. Please help us get numbers for food and merchandise as soon as possible. </p><p>If you need an accommodation to participate in this event, please contact the event
                                          event sponsor or the Texas Law Special Events Office at <a href="mailto:specialevents@law.utexas.edu">specialevents@law.utexas.edu</a> no later than seven business days prior to the event.</p>
CATEGORIES:Workshop / Training Program
LOCATION:TNH 2.114 - Francis Auditorium
URL:http://law.utexas.edu/calendar/2026/02/21/85678/
CLASS:PUBLIC
STATUS:CONFIRMED
COMMENT:https://cwil.law.utexas.edu/events/institute-law-and-leadership
END:VEVENT
END:VCALENDAR