BEGIN:VCALENDAR
VERSION:2.0
PRODID:-//UNIVERSITY OF TEXAS SCHOOL OF LAW//NONSGML Events Calendar v1.0//EN
X-WR-TIMEZONE:America/Chicago
BEGIN:VTIMEZONE
TZID:US/Central
X-LIC-LOCATION:America/Chicago
BEGIN:DAYLIGHT
TZOFFSETFROM:-0600
TZOFFSETTO:-0500
TZNAME:CDT
DTSTART:19700308T020000
RRULE:FREQ=YEARLY;BYMONTH=3;BYDAY=2SU
END:DAYLIGHT
BEGIN:STANDARD
TZOFFSETFROM:-0500
TZOFFSETTO:-0600
TZNAME:CST
DTSTART:19701101T020000
RRULE:FREQ=YEARLY;BYMONTH=11;BYDAY=1SU
END:STANDARD
END:VTIMEZONE
BEGIN:VEVENT
DTSTART;TZID=US/Central:20260325T154500
DTEND;VALUE=DATE-TIME;TZID=US/Central:20260325T174500

DTSTAMP:20260419T185700Z
CREATED:20251114T193700Z
LAST-MODIFIED:20251114T193700Z
UID:20260325T154500-85320@law.utexas.edu
SUMMARY:Workshop in Business Law: Robert Thompso
DESCRIPTION:<p>Robert Thompson presenting an original paper in the Business Law Seminar.</p>\n\nIf you need an accommodation to participate in this event, please contact the event sponsor or the Texas Law Special Events Office at specialevents@law.utexas.edu no later than seven business days prior to the event. Speaker: Robert Thompson, P, Georgetown
X-ALT-DESC;FMTTYPE=text/html:<p>Robert Thompson presenting an original paper in the Business Law Seminar.</p><p>If you need an accommodation to participate in this event, please contact the event
                                          event sponsor or the Texas Law Special Events Office at <a href="mailto:specialevents@law.utexas.edu">specialevents@law.utexas.edu</a> no later than seven business days prior to the event.</p> Speaker: Robert Thompson, P, Georgetown

LOCATION:TNH 3.124 - Neathery Classroom
URL:http://law.utexas.edu/calendar/2026/03/25/85320/
CLASS:PUBLIC
STATUS:CONFIRMED

END:VEVENT
END:VCALENDAR