BEGIN:VCALENDAR
VERSION:2.0
PRODID:-//UNIVERSITY OF TEXAS SCHOOL OF LAW//NONSGML Events Calendar v1.0//EN
X-WR-TIMEZONE:America/Chicago
BEGIN:VTIMEZONE
TZID:US/Central
X-LIC-LOCATION:America/Chicago
BEGIN:DAYLIGHT
TZOFFSETFROM:-0600
TZOFFSETTO:-0500
TZNAME:CDT
DTSTART:19700308T020000
RRULE:FREQ=YEARLY;BYMONTH=3;BYDAY=2SU
END:DAYLIGHT
BEGIN:STANDARD
TZOFFSETFROM:-0500
TZOFFSETTO:-0600
TZNAME:CST
DTSTART:19701101T020000
RRULE:FREQ=YEARLY;BYMONTH=11;BYDAY=1SU
END:STANDARD
END:VTIMEZONE
BEGIN:VEVENT
DTSTART;TZID=US/Central:20260408T150000
DTEND;VALUE=DATE-TIME;TZID=US/Central:20260408T160000

DTSTAMP:20260419T162900Z
CREATED:20260402T161400Z
LAST-MODIFIED:20260402T161400Z
UID:20260408T150000-88018@law.utexas.edu
SUMMARY:Legora AI: Texas Law student training
DESCRIPTION:<p>Representatives from Legora AI will provide Texas Law students with a live training session over Zoom on Wednesday, April 8, from 3pm-4pm during which they will review the platform and specifically focus on use cases.</p>
  <p>Texas Law students who would like to attend can email Lei Zhang (lei.zhang@law.utexas.edu) for the Zoom link.</p>\n\nIf you need an accommodation to participate in this event, please contact the event sponsor or the Texas Law Special Events Office at specialevents@law.utexas.edu no later than seven business days prior to the event.
X-ALT-DESC;FMTTYPE=text/html:<p>Representatives from Legora AI will provide Texas Law students with a live training session over Zoom on Wednesday, April 8, from 3pm-4pm during which they will review the platform and specifically focus on use cases.</p>
  <p>Texas Law students who would like to attend can email Lei Zhang (lei.zhang@law.utexas.edu) for the Zoom link.</p><p>If you need an accommodation to participate in this event, please contact the event
                                          event sponsor or the Texas Law Special Events Office at <a href="mailto:specialevents@law.utexas.edu">specialevents@law.utexas.edu</a> no later than seven business days prior to the event.</p>
CATEGORIES:Other

URL:http://law.utexas.edu/calendar/2026/04/08/88018/
CLASS:PUBLIC
STATUS:CONFIRMED

END:VEVENT
END:VCALENDAR