BEGIN:VCALENDAR
VERSION:2.0
PRODID:-//UNIVERSITY OF TEXAS SCHOOL OF LAW//NONSGML Events Calendar v1.0//EN
X-WR-CALNAME:Texas Law - Events Calendar - Faculty Colloquia, Conferences, and Lecture Series Events
X-WR-TIMEZONE:America/Chicago
BEGIN:VTIMEZONE
TZID:US/Central
X-LIC-LOCATION:America/Chicago
BEGIN:DAYLIGHT
TZOFFSETFROM:-0600
TZOFFSETTO:-0500
TZNAME:CDT
DTSTART:19700308T020000
RRULE:FREQ=YEARLY;BYMONTH=3;BYDAY=2SU
END:DAYLIGHT
BEGIN:STANDARD
TZOFFSETFROM:-0500
TZOFFSETTO:-0600
TZNAME:CST
DTSTART:19701101T020000
RRULE:FREQ=YEARLY;BYMONTH=11;BYDAY=1SU
END:STANDARD
END:VTIMEZONE
BEGIN:VEVENT
DTSTART;VALUE=DATE-TIME;TZID=US/Central:20260427T154500
DTEND;VALUE=DATE-TIME;TZID=US/Central:20260427T174500
DTSTAMP:20260425T162600Z
CREATED:20260209T143200Z
LAST-MODIFIED:20260209T143200Z
UID:20260427T154500-86756@law.utexas.edu
SUMMARY:Law & Economics Workshop: Katherine Ritt
DESCRIPTION:<p>Law & Economics Workshop: Katherine Rittenhouse\, The
  University of Texas at Austin School of Public Affairs</p>If you need an
  accommodation to participate in this event, please contact the event
  sponsor or the Texas Law Special Events Office at
  specialevents@law.utexas.edu no later than seven business days prior to
  the event. Speaker: Katherine Rittenhouse
X-ALT-DESC;FMTTYPE=text/html:<p>Law & Economics Workshop: Katherine
  Rittenhouse\, The University of Texas at Austin School of Public
  Affairs</p><p>If you need an accommodation to participate in this event,
  please contact the
                                          event sponsor
  or the Texas Law Special Events Office at <a
  href="mailto:specialevents@law.utexas.edu">specialevents@law.utexas.edu</
  a> no later than seven business days prior to the event.</p> Speaker:
  Katherine Rittenhouse
LOCATION:TNH 3.125 - Denius Classroom
URL:https://law.utexas.edu/calendar/2026/04/27/86756/
CLASS:PUBLIC
STATUS:CONFIRMED
END:VEVENT
END:VCALENDAR