BEGIN:VCALENDAR
VERSION:2.0
PRODID:-//UNIVERSITY OF TEXAS SCHOOL OF LAW//NONSGML Events Calendar v1.0//EN
X-WR-CALNAME:Texas Law - Events Calendar - Business Law Workshop Events
X-WR-TIMEZONE:America/Chicago
BEGIN:VTIMEZONE
TZID:US/Central
X-LIC-LOCATION:America/Chicago
BEGIN:DAYLIGHT
TZOFFSETFROM:-0600
TZOFFSETTO:-0500
TZNAME:CDT
DTSTART:19700308T020000
RRULE:FREQ=YEARLY;BYMONTH=3;BYDAY=2SU
END:DAYLIGHT
BEGIN:STANDARD
TZOFFSETFROM:-0500
TZOFFSETTO:-0600
TZNAME:CST
DTSTART:19701101T020000
RRULE:FREQ=YEARLY;BYMONTH=11;BYDAY=1SU
END:STANDARD
END:VTIMEZONE
BEGIN:VEVENT
DTSTART;VALUE=DATE-TIME;TZID=US/Central:20260422T154500
DTEND;VALUE=DATE-TIME;TZID=US/Central:20260422T173000
DTSTAMP:20260419T143600Z
CREATED:20260129T211000Z
LAST-MODIFIED:20260129T211000Z
UID:20260422T154500-86497@law.utexas.edu
SUMMARY:Workshop in Business Law: Reuven Avi-Yon
DESCRIPTION:<p>Reuven Avi-Yonah presenting an original work in the
  Workshop in Business Law</p>If you need an accommodation to participate
  in this event, please contact the event sponsor or the Texas Law Special
  Events Office at specialevents@law.utexas.edu no later than seven
  business days prior to the event. Speaker: Reuven Avi-Yonah, Professor,
  University of Michigan
X-ALT-DESC;FMTTYPE=text/html:<p>Reuven Avi-Yonah presenting an original
  work in the Workshop in Business Law</p><p>If you need an accommodation
  to participate in this event, please contact the
                 event sponsor or the Texas Law Special Events Office at <a
  href="mailto:specialevents@law.utexas.edu">specialevents@law.utexas.edu</
  a> no later than seven business days prior to the event.</p> Speaker:
  Reuven Avi-Yonah, Professor, University of Michigan
LOCATION:TNH 3.124 - Neathery Classroom
URL:https://law.utexas.edu/calendar/2026/04/22/86497/
CLASS:PUBLIC
STATUS:CONFIRMED
END:VEVENT
END:VCALENDAR