BEGIN:VCALENDAR
VERSION:2.0
PRODID:-//law.utexas.edu//Course Schedule//EN
CALSCALE:GREGORIAN
METHOD:PUBLISH
BEGIN:VTIMEZONE
TZID:America/Chicago
X-LIC-LOCATION:America/Chicago
BEGIN:DAYLIGHT
TZOFFSETFROM:-0600
TZOFFSETTO:-0500
TZNAME:CDT
DTSTART:19700308T020000
RRULE:FREQ=YEARLY;BYMONTH=3;BYDAY=2SU
END:DAYLIGHT
BEGIN:STANDARD
TZOFFSETFROM:-0500
TZOFFSETTO:-0600
TZNAME:CST
DTSTART:19701101T020000
RRULE:FREQ=YEARLY;BYMONTH=11;BYDAY=1SU
END:STANDARD
END:VTIMEZONE
BEGIN:VEVENT
SUMMARY:Property
LOCATION:TNH 3.124
DTSTART;TZID=America/Chicago:20260421T113000
DTEND;TZID=America/Chicago:20260421T122000
RRULE:FREQ=WEEKLY;BYDAY=TU,WE;UNTIL=20260419T220000
UID:b67771fbc79b78ea13a7b3e2abe6b31a
DTSTAMP:20260419T110954
DESCRIPTION:Instructors: Jane M. Cohen
END:VEVENT
BEGIN:VEVENT
SUMMARY:Property
LOCATION:TNH 3.124
DTSTART;TZID=America/Chicago:20260423T113000
DTEND;TZID=America/Chicago:20260423T131000
RRULE:FREQ=WEEKLY;BYDAY=TH;UNTIL=20260419T220000
UID:257d938f9eb6525526b54915189e4883
DTSTAMP:20260419T110954
DESCRIPTION:Instructors: Jane M. Cohen
END:VEVENT
END:VCALENDAR
