BEGIN:VCALENDAR
VERSION:2.0
PRODID:-//law.utexas.edu//Course Schedule//EN
CALSCALE:GREGORIAN
METHOD:PUBLISH
BEGIN:VTIMEZONE
TZID:America/Chicago
X-LIC-LOCATION:America/Chicago
BEGIN:DAYLIGHT
TZOFFSETFROM:-0600
TZOFFSETTO:-0500
TZNAME:CDT
DTSTART:19700308T020000
RRULE:FREQ=YEARLY;BYMONTH=3;BYDAY=2SU
END:DAYLIGHT
BEGIN:STANDARD
TZOFFSETFROM:-0500
TZOFFSETTO:-0600
TZNAME:CST
DTSTART:19701101T020000
RRULE:FREQ=YEARLY;BYMONTH=11;BYDAY=1SU
END:STANDARD
END:VTIMEZONE
BEGIN:VEVENT
SUMMARY:Criminal Law I
LOCATION:TNH 3.125
DTSTART;TZID=America/Chicago:20260421T113000
DTEND;TZID=America/Chicago:20260421T122000
RRULE:FREQ=WEEKLY;BYDAY=TU,WE;UNTIL=20260419T220000
UID:b0e15880a1f990f3a7934deeaaf9d619
DTSTAMP:20260419T110620
DESCRIPTION:Instructors: Susan R. Klein
END:VEVENT
BEGIN:VEVENT
SUMMARY:Criminal Law I
LOCATION:TNH 3.125
DTSTART;TZID=America/Chicago:20260423T113000
DTEND;TZID=America/Chicago:20260423T132000
RRULE:FREQ=WEEKLY;BYDAY=TH;UNTIL=20260419T220000
UID:a7768015cc238254e3099b9f6ecd5a39
DTSTAMP:20260419T110620
DESCRIPTION:Instructors: Susan R. Klein
END:VEVENT
END:VCALENDAR
