BEGIN:VCALENDAR
VERSION:2.0
PRODID:-//law.utexas.edu//Course Schedule//EN
CALSCALE:GREGORIAN
METHOD:PUBLISH
BEGIN:VTIMEZONE
TZID:America/Chicago
X-LIC-LOCATION:America/Chicago
BEGIN:DAYLIGHT
TZOFFSETFROM:-0600
TZOFFSETTO:-0500
TZNAME:CDT
DTSTART:19700308T020000
RRULE:FREQ=YEARLY;BYMONTH=3;BYDAY=2SU
END:DAYLIGHT
BEGIN:STANDARD
TZOFFSETFROM:-0500
TZOFFSETTO:-0600
TZNAME:CST
DTSTART:19701101T020000
RRULE:FREQ=YEARLY;BYMONTH=11;BYDAY=1SU
END:STANDARD
END:VTIMEZONE
BEGIN:VEVENT
SUMMARY:Partnership Tax
LOCATION:TNH 3.127
DTSTART;TZID=America/Chicago:20260420T113000
DTEND;TZID=America/Chicago:20260420T143000
RRULE:FREQ=WEEKLY;BYDAY=MO;UNTIL=20260419T220000
UID:9e25b4e44551ba343c41e1cd8af44bc0
DTSTAMP:20260419T095756
DESCRIPTION:Instructors: Patrick L. O'Daniel, William P. Bowers
END:VEVENT
END:VCALENDAR
