BEGIN:VCALENDAR
VERSION:2.0
PRODID:-//law.utexas.edu//Course Schedule//EN
CALSCALE:GREGORIAN
METHOD:PUBLISH
BEGIN:VTIMEZONE
TZID:America/Chicago
X-LIC-LOCATION:America/Chicago
BEGIN:DAYLIGHT
TZOFFSETFROM:-0600
TZOFFSETTO:-0500
TZNAME:CDT
DTSTART:19700308T020000
RRULE:FREQ=YEARLY;BYMONTH=3;BYDAY=2SU
END:DAYLIGHT
BEGIN:STANDARD
TZOFFSETFROM:-0500
TZOFFSETTO:-0600
TZNAME:CST
DTSTART:19701101T020000
RRULE:FREQ=YEARLY;BYMONTH=11;BYDAY=1SU
END:STANDARD
END:VTIMEZONE
BEGIN:VEVENT
SUMMARY:Property & Governance
LOCATION:TNH 3.129
DTSTART;TZID=America/Chicago:20260422T153000
DTEND;TZID=America/Chicago:20260422T172000
RRULE:FREQ=WEEKLY;BYDAY=WE;UNTIL=20260419T220000
UID:7766307b7cf4b9a81a6e5a8fe10a267f
DTSTAMP:20260419T135705
DESCRIPTION:Instructors: Daniel B Rodriguez, Jane M. Cohen
END:VEVENT
END:VCALENDAR
