BEGIN:VCALENDAR
VERSION:2.0
PRODID:-//law.utexas.edu//Course Schedule//EN
CALSCALE:GREGORIAN
METHOD:PUBLISH
BEGIN:VTIMEZONE
TZID:America/Chicago
X-LIC-LOCATION:America/Chicago
BEGIN:DAYLIGHT
TZOFFSETFROM:-0600
TZOFFSETTO:-0500
TZNAME:CDT
DTSTART:19700308T020000
RRULE:FREQ=YEARLY;BYMONTH=3;BYDAY=2SU
END:DAYLIGHT
BEGIN:STANDARD
TZOFFSETFROM:-0500
TZOFFSETTO:-0600
TZNAME:CST
DTSTART:19701101T020000
RRULE:FREQ=YEARLY;BYMONTH=11;BYDAY=1SU
END:STANDARD
END:VTIMEZONE
BEGIN:VEVENT
SUMMARY:Contracts
LOCATION:TNH 3.125
DTSTART;TZID=America/Chicago:20260421T113000
DTEND;TZID=America/Chicago:20260421T122000
RRULE:FREQ=WEEKLY;BYDAY=TU,WE;UNTIL=20260419T220000
UID:ea12e74ae5158d0ee8c0e5734b17bb0e
DTSTAMP:20260419T091436
DESCRIPTION:Instructors: Sean H. Williams
END:VEVENT
BEGIN:VEVENT
SUMMARY:Contracts
LOCATION:TNH 3.125
DTSTART;TZID=America/Chicago:20260423T103000
DTEND;TZID=America/Chicago:20260423T122000
RRULE:FREQ=WEEKLY;BYDAY=TH;UNTIL=20260419T220000
UID:8283148af2c3f22df85c5e39b33e053e
DTSTAMP:20260419T091436
DESCRIPTION:Instructors: Sean H. Williams
END:VEVENT
END:VCALENDAR
