BEGIN:VCALENDAR
VERSION:2.0
PRODID:-//law.utexas.edu//Course Schedule//EN
CALSCALE:GREGORIAN
METHOD:PUBLISH
BEGIN:VTIMEZONE
TZID:America/Chicago
X-LIC-LOCATION:America/Chicago
BEGIN:DAYLIGHT
TZOFFSETFROM:-0600
TZOFFSETTO:-0500
TZNAME:CDT
DTSTART:19700308T020000
RRULE:FREQ=YEARLY;BYMONTH=3;BYDAY=2SU
END:DAYLIGHT
BEGIN:STANDARD
TZOFFSETFROM:-0500
TZOFFSETTO:-0600
TZNAME:CST
DTSTART:19701101T020000
RRULE:FREQ=YEARLY;BYMONTH=11;BYDAY=1SU
END:STANDARD
END:VTIMEZONE
BEGIN:VEVENT
SUMMARY:Legal Research & Legal Writing
LOCATION:TNH 3.126
DTSTART;TZID=America/Chicago:20260423T123000
DTEND;TZID=America/Chicago:20260423T134000
RRULE:FREQ=WEEKLY;BYDAY=TH;UNTIL=20260419T220000
UID:7183f781bc2ed1e28e2690fffda60a02
DTSTAMP:20260419T160639
DESCRIPTION:Instructors: Sean J. Petrie
END:VEVENT
BEGIN:VEVENT
SUMMARY:Legal Research & Legal Writing
LOCATION:TNH 2.139
DTSTART;TZID=America/Chicago:20260424T103000
DTEND;TZID=America/Chicago:20260424T114000
RRULE:FREQ=WEEKLY;BYDAY=FR;UNTIL=20260419T220000
UID:6491a567551551f8c6f13136f30eeeee
DTSTAMP:20260419T160639
DESCRIPTION:Instructors: Sean J. Petrie
END:VEVENT
END:VCALENDAR
