BEGIN:VCALENDAR
VERSION:2.0
PRODID:-//law.utexas.edu//Course Schedule//EN
CALSCALE:GREGORIAN
METHOD:PUBLISH
BEGIN:VTIMEZONE
TZID:America/Chicago
X-LIC-LOCATION:America/Chicago
BEGIN:DAYLIGHT
TZOFFSETFROM:-0600
TZOFFSETTO:-0500
TZNAME:CDT
DTSTART:19700308T020000
RRULE:FREQ=YEARLY;BYMONTH=3;BYDAY=2SU
END:DAYLIGHT
BEGIN:STANDARD
TZOFFSETFROM:-0500
TZOFFSETTO:-0600
TZNAME:CST
DTSTART:19701101T020000
RRULE:FREQ=YEARLY;BYMONTH=11;BYDAY=1SU
END:STANDARD
END:VTIMEZONE
BEGIN:VEVENT
SUMMARY:International Human Rights Law
LOCATION:TNH 3.142
DTSTART;TZID=America/Chicago:20260420T123000
DTEND;TZID=America/Chicago:20260420T140000
RRULE:FREQ=WEEKLY;BYDAY=MO;UNTIL=20260419T220000
UID:c553412e4e0dcb7c376ad73f1f8d125a
DTSTAMP:20260419T135723
DESCRIPTION:Instructors: Karen Engle
END:VEVENT
BEGIN:VEVENT
SUMMARY:International Human Rights Law
LOCATION:TNH 2.124
DTSTART;TZID=America/Chicago:20260421T123000
DTEND;TZID=America/Chicago:20260421T140000
RRULE:FREQ=WEEKLY;BYDAY=TU;UNTIL=20260419T220000
UID:4dd11af470c722ae9583ffa91ab4750b
DTSTAMP:20260419T135723
DESCRIPTION:Instructors: Karen Engle
END:VEVENT
END:VCALENDAR
