BEGIN:VCALENDAR
VERSION:2.0
PRODID:-//law.utexas.edu//Course Schedule//EN
CALSCALE:GREGORIAN
METHOD:PUBLISH
BEGIN:VTIMEZONE
TZID:America/Chicago
X-LIC-LOCATION:America/Chicago
BEGIN:DAYLIGHT
TZOFFSETFROM:-0600
TZOFFSETTO:-0500
TZNAME:CDT
DTSTART:19700308T020000
RRULE:FREQ=YEARLY;BYMONTH=3;BYDAY=2SU
END:DAYLIGHT
BEGIN:STANDARD
TZOFFSETFROM:-0500
TZOFFSETTO:-0600
TZNAME:CST
DTSTART:19701101T020000
RRULE:FREQ=YEARLY;BYMONTH=11;BYDAY=1SU
END:STANDARD
END:VTIMEZONE
BEGIN:VEVENT
SUMMARY:Topics in Theory/Practice of Arbitration
LOCATION:TNH 3.142
DTSTART;TZID=America/Chicago:20260421T153000
DTEND;TZID=America/Chicago:20260421T172000
RRULE:FREQ=WEEKLY;BYDAY=TU,TH;UNTIL=20260419T220000
UID:23705f7ec7b28d2087c11af9778cfa9e
DTSTAMP:20260419T122733
DESCRIPTION:Instructors: Robert G. Bone, Victor Ferreres
END:VEVENT
END:VCALENDAR
