BEGIN:VCALENDAR
VERSION:2.0
PRODID:-//law.utexas.edu//Course Schedule//EN
CALSCALE:GREGORIAN
METHOD:PUBLISH
BEGIN:VTIMEZONE
TZID:America/Chicago
X-LIC-LOCATION:America/Chicago
BEGIN:DAYLIGHT
TZOFFSETFROM:-0600
TZOFFSETTO:-0500
TZNAME:CDT
DTSTART:19700308T020000
RRULE:FREQ=YEARLY;BYMONTH=3;BYDAY=2SU
END:DAYLIGHT
BEGIN:STANDARD
TZOFFSETFROM:-0500
TZOFFSETTO:-0600
TZNAME:CST
DTSTART:19701101T020000
RRULE:FREQ=YEARLY;BYMONTH=11;BYDAY=1SU
END:STANDARD
END:VTIMEZONE
BEGIN:VEVENT
SUMMARY:Torts
LOCATION:TNH 3.142
DTSTART;TZID=America/Chicago:20260422T140000
DTEND;TZID=America/Chicago:20260422T150700
RRULE:FREQ=WEEKLY;BYDAY=WE;UNTIL=20260419T220000
UID:ded3fbf372208cb9552d9f8fe4999cd9
DTSTAMP:20260419T065923
DESCRIPTION:Instructors: Ronen Avraham
END:VEVENT
BEGIN:VEVENT
SUMMARY:Torts
LOCATION:TNH 3.142
DTSTART;TZID=America/Chicago:20260423T105300
DTEND;TZID=America/Chicago:20260423T120000
RRULE:FREQ=WEEKLY;BYDAY=TH,FR;UNTIL=20260419T220000
UID:2c6630c8156b6e071d4dd82e8a1dab94
DTSTAMP:20260419T065923
DESCRIPTION:Instructors: Ronen Avraham
END:VEVENT
END:VCALENDAR
