BEGIN:VCALENDAR
VERSION:2.0
PRODID:-//law.utexas.edu//Course Schedule//EN
CALSCALE:GREGORIAN
METHOD:PUBLISH
BEGIN:VTIMEZONE
TZID:America/Chicago
X-LIC-LOCATION:America/Chicago
BEGIN:DAYLIGHT
TZOFFSETFROM:-0600
TZOFFSETTO:-0500
TZNAME:CDT
DTSTART:19700308T020000
RRULE:FREQ=YEARLY;BYMONTH=3;BYDAY=2SU
END:DAYLIGHT
BEGIN:STANDARD
TZOFFSETFROM:-0500
TZOFFSETTO:-0600
TZNAME:CST
DTSTART:19701101T020000
RRULE:FREQ=YEARLY;BYMONTH=11;BYDAY=1SU
END:STANDARD
END:VTIMEZONE
BEGIN:VEVENT
SUMMARY:Clinic: Community Development
LOCATION:CCJ 3.312
DTSTART;TZID=America/Chicago:20260427T140000
DTEND;TZID=America/Chicago:20260427T160000
RRULE:FREQ=WEEKLY;BYDAY=MO;UNTIL=20260421T220000
UID:6215be71bd4f19c132d35440c9d41972
DTSTAMP:20260421T185712
DESCRIPTION:Instructors: Eliza T. Platts-Mills, Frances Leos Martinez, Heather K. Way
END:VEVENT
BEGIN:VEVENT
SUMMARY:Clinic: Community Development
LOCATION:CCJ 1.304
DTSTART;TZID=America/Chicago:20260423T093000
DTEND;TZID=America/Chicago:20260423T102000
RRULE:FREQ=WEEKLY;BYDAY=TH;UNTIL=20260421T220000
UID:c796a503784958d4844615d06d0c0a4f
DTSTAMP:20260421T185712
DESCRIPTION:Instructors: Eliza T. Platts-Mills, Frances Leos Martinez, Heather K. Way
END:VEVENT
END:VCALENDAR
