BEGIN:VCALENDAR
VERSION:2.0
PRODID:-//law.utexas.edu//Course Schedule//EN
CALSCALE:GREGORIAN
METHOD:PUBLISH
BEGIN:VTIMEZONE
TZID:America/Chicago
X-LIC-LOCATION:America/Chicago
BEGIN:DAYLIGHT
TZOFFSETFROM:-0600
TZOFFSETTO:-0500
TZNAME:CDT
DTSTART:19700308T020000
RRULE:FREQ=YEARLY;BYMONTH=3;BYDAY=2SU
END:DAYLIGHT
BEGIN:STANDARD
TZOFFSETFROM:-0500
TZOFFSETTO:-0600
TZNAME:CST
DTSTART:19701101T020000
RRULE:FREQ=YEARLY;BYMONTH=11;BYDAY=1SU
END:STANDARD
END:VTIMEZONE
BEGIN:VEVENT
SUMMARY:SMNR: Green Technology Law & Policy
LOCATION:TNH 3.129
DTSTART;TZID=America/Chicago:20260427T153000
DTEND;TZID=America/Chicago:20260427T172000
RRULE:FREQ=WEEKLY;BYDAY=MO;UNTIL=20260423T220000
UID:0a1f4d460ff520fc990573c5e15f953f
DTSTAMP:20260423T115709
DESCRIPTION:Instructors: David E. Adelman
END:VEVENT
END:VCALENDAR
