BEGIN:VCALENDAR
VERSION:2.0
PRODID:-//law.utexas.edu//Course Schedule//EN
CALSCALE:GREGORIAN
METHOD:PUBLISH
BEGIN:VTIMEZONE
TZID:America/Chicago
X-LIC-LOCATION:America/Chicago
BEGIN:DAYLIGHT
TZOFFSETFROM:-0600
TZOFFSETTO:-0500
TZNAME:CDT
DTSTART:19700308T020000
RRULE:FREQ=YEARLY;BYMONTH=3;BYDAY=2SU
END:DAYLIGHT
BEGIN:STANDARD
TZOFFSETFROM:-0500
TZOFFSETTO:-0600
TZNAME:CST
DTSTART:19701101T020000
RRULE:FREQ=YEARLY;BYMONTH=11;BYDAY=1SU
END:STANDARD
END:VTIMEZONE
BEGIN:VEVENT
SUMMARY:Preparing for a Federal District Clerkship
LOCATION:TNH 3.114
DTSTART;TZID=America/Chicago:20260423T103000
DTEND;TZID=America/Chicago:20260423T122000
RRULE:FREQ=WEEKLY;BYDAY=TH;UNTIL=20260419T220000
UID:c198adb9d8c76571a8376e9603b7c570
DTSTAMP:20260419T135444
DESCRIPTION:Instructors: Elizabeth S. Chestney
END:VEVENT
END:VCALENDAR
