BEGIN:VCALENDAR
VERSION:2.0
PRODID:-//law.utexas.edu//Course Schedule//EN
CALSCALE:GREGORIAN
METHOD:PUBLISH
BEGIN:VTIMEZONE
TZID:America/Chicago
X-LIC-LOCATION:America/Chicago
BEGIN:DAYLIGHT
TZOFFSETFROM:-0600
TZOFFSETTO:-0500
TZNAME:CDT
DTSTART:19700308T020000
RRULE:FREQ=YEARLY;BYMONTH=3;BYDAY=2SU
END:DAYLIGHT
BEGIN:STANDARD
TZOFFSETFROM:-0500
TZOFFSETTO:-0600
TZNAME:CST
DTSTART:19701101T020000
RRULE:FREQ=YEARLY;BYMONTH=11;BYDAY=1SU
END:STANDARD
END:VTIMEZONE
BEGIN:VEVENT
SUMMARY:International Human Rights Law
LOCATION:JON 5.206
DTSTART;TZID=America/Chicago:20260421T103000
DTEND;TZID=America/Chicago:20260421T115000
RRULE:FREQ=WEEKLY;BYDAY=TU;UNTIL=20260419T220000
UID:390bb6ce2ccf552a64fed524676123f3
DTSTAMP:20260419T113350
DESCRIPTION:Instructors: Karen Engle
END:VEVENT
BEGIN:VEVENT
SUMMARY:International Human Rights Law
LOCATION:JON 5.206
DTSTART;TZID=America/Chicago:20260422T103000
DTEND;TZID=America/Chicago:20260422T114000
RRULE:FREQ=WEEKLY;BYDAY=WE;UNTIL=20260419T220000
UID:8ceb5e2ba94b3987aea09a651f380f8c
DTSTAMP:20260419T113350
DESCRIPTION:Instructors: Karen Engle
END:VEVENT
END:VCALENDAR
