BEGIN:VCALENDAR
VERSION:2.0
PRODID:-//law.utexas.edu//Course Schedule//EN
CALSCALE:GREGORIAN
METHOD:PUBLISH
BEGIN:VTIMEZONE
TZID:America/Chicago
X-LIC-LOCATION:America/Chicago
BEGIN:DAYLIGHT
TZOFFSETFROM:-0600
TZOFFSETTO:-0500
TZNAME:CDT
DTSTART:19700308T020000
RRULE:FREQ=YEARLY;BYMONTH=3;BYDAY=2SU
END:DAYLIGHT
BEGIN:STANDARD
TZOFFSETFROM:-0500
TZOFFSETTO:-0600
TZNAME:CST
DTSTART:19701101T020000
RRULE:FREQ=YEARLY;BYMONTH=11;BYDAY=1SU
END:STANDARD
END:VTIMEZONE
BEGIN:VEVENT
SUMMARY:School-to-Prison Pipeline
LOCATION:SRH 3.316
DTSTART;TZID=America/Chicago:20260424T090000
DTEND;TZID=America/Chicago:20260424T120000
RRULE:FREQ=WEEKLY;BYDAY=FR;UNTIL=20260419T220000
UID:9f3e39f0642ee776e4f8e0528f43c66e
DTSTAMP:20260419T072156
DESCRIPTION:Instructors: Lynda E. Frost, Michele Y. Deitch
END:VEVENT
END:VCALENDAR
