BEGIN:VCALENDAR
VERSION:2.0
PRODID:-//law.utexas.edu//Course Schedule//EN
CALSCALE:GREGORIAN
METHOD:PUBLISH
BEGIN:VTIMEZONE
TZID:America/Chicago
X-LIC-LOCATION:America/Chicago
BEGIN:DAYLIGHT
TZOFFSETFROM:-0600
TZOFFSETTO:-0500
TZNAME:CDT
DTSTART:19700308T020000
RRULE:FREQ=YEARLY;BYMONTH=3;BYDAY=2SU
END:DAYLIGHT
BEGIN:STANDARD
TZOFFSETFROM:-0500
TZOFFSETTO:-0600
TZNAME:CST
DTSTART:19701101T020000
RRULE:FREQ=YEARLY;BYMONTH=11;BYDAY=1SU
END:STANDARD
END:VTIMEZONE
BEGIN:VEVENT
SUMMARY:Torts
LOCATION:TNH 2.137
DTSTART;TZID=America/Chicago:20260422T141500
DTEND;TZID=America/Chicago:20260422T152200
RRULE:FREQ=WEEKLY;BYDAY=WE,TH;UNTIL=20260419T220000
UID:3157dc7b33bcdedf7ab55453ef5539da
DTSTAMP:20260419T082941
DESCRIPTION:Instructors: Wendy E. Wagner
END:VEVENT
BEGIN:VEVENT
SUMMARY:Torts
LOCATION:TNH 2.137
DTSTART;TZID=America/Chicago:20260424T091000
DTEND;TZID=America/Chicago:20260424T101700
RRULE:FREQ=WEEKLY;BYDAY=FR;UNTIL=20260419T220000
UID:69e8b276bc71fd3819564265638f6e2c
DTSTAMP:20260419T082941
DESCRIPTION:Instructors: Wendy E. Wagner
END:VEVENT
END:VCALENDAR
