BEGIN:VCALENDAR
VERSION:2.0
PRODID:-//law.utexas.edu//Course Schedule//EN
CALSCALE:GREGORIAN
METHOD:PUBLISH
BEGIN:VTIMEZONE
TZID:America/Chicago
X-LIC-LOCATION:America/Chicago
BEGIN:DAYLIGHT
TZOFFSETFROM:-0600
TZOFFSETTO:-0500
TZNAME:CDT
DTSTART:19700308T020000
RRULE:FREQ=YEARLY;BYMONTH=3;BYDAY=2SU
END:DAYLIGHT
BEGIN:STANDARD
TZOFFSETFROM:-0500
TZOFFSETTO:-0600
TZNAME:CST
DTSTART:19701101T020000
RRULE:FREQ=YEARLY;BYMONTH=11;BYDAY=1SU
END:STANDARD
END:VTIMEZONE
BEGIN:VEVENT
SUMMARY:Topics in Theory/Practice of Arbitration
LOCATION:JON 6.208
DTSTART;TZID=America/Chicago:20260420T154500
DTEND;TZID=America/Chicago:20260420T173500
RRULE:FREQ=WEEKLY;BYDAY=MO,WE;UNTIL=20260419T220000
UID:1bc476e280c33c2ee4c93913e08bf08c
DTSTAMP:20260419T082402
DESCRIPTION:Instructors: Robert G. Bone, Victor Ferreres
END:VEVENT
END:VCALENDAR
