BEGIN:VCALENDAR
VERSION:2.0
PRODID:-//law.utexas.edu//Course Schedule//EN
CALSCALE:GREGORIAN
METHOD:PUBLISH
BEGIN:VTIMEZONE
TZID:America/Chicago
X-LIC-LOCATION:America/Chicago
BEGIN:DAYLIGHT
TZOFFSETFROM:-0600
TZOFFSETTO:-0500
TZNAME:CDT
DTSTART:19700308T020000
RRULE:FREQ=YEARLY;BYMONTH=3;BYDAY=2SU
END:DAYLIGHT
BEGIN:STANDARD
TZOFFSETFROM:-0500
TZOFFSETTO:-0600
TZNAME:CST
DTSTART:19701101T020000
RRULE:FREQ=YEARLY;BYMONTH=11;BYDAY=1SU
END:STANDARD
END:VTIMEZONE
BEGIN:VEVENT
SUMMARY:Clinic: Legislative Lawyering
LOCATION:CCJ 3.312
DTSTART;TZID=America/Chicago:20260424T091000
DTEND;TZID=America/Chicago:20260424T114000
RRULE:FREQ=WEEKLY;BYDAY=FR;UNTIL=20260419T220000
UID:0793c545b909d6f2ad284b257feff5be
DTSTAMP:20260419T102459
DESCRIPTION:Instructors: Hugh L. Brady
END:VEVENT
END:VCALENDAR
