BEGIN:VCALENDAR
VERSION:2.0
PRODID:-//law.utexas.edu//Course Schedule//EN
CALSCALE:GREGORIAN
METHOD:PUBLISH
BEGIN:VTIMEZONE
TZID:America/Chicago
X-LIC-LOCATION:America/Chicago
BEGIN:DAYLIGHT
TZOFFSETFROM:-0600
TZOFFSETTO:-0500
TZNAME:CDT
DTSTART:19700308T020000
RRULE:FREQ=YEARLY;BYMONTH=3;BYDAY=2SU
END:DAYLIGHT
BEGIN:STANDARD
TZOFFSETFROM:-0500
TZOFFSETTO:-0600
TZNAME:CST
DTSTART:19701101T020000
RRULE:FREQ=YEARLY;BYMONTH=11;BYDAY=1SU
END:STANDARD
END:VTIMEZONE
BEGIN:VEVENT
SUMMARY:SMNR: Corporate and International Finance and Governance
LOCATION:TNH 3.127
DTSTART;TZID=America/Chicago:20260421T154500
DTEND;TZID=America/Chicago:20260421T173500
RRULE:FREQ=WEEKLY;BYDAY=TU;UNTIL=20260420T220000
UID:5a5b3599b80a5f8d3954a4ce1f968c06
DTSTAMP:20260420T081003
DESCRIPTION:Instructors: Henry T. C. Hu
END:VEVENT
END:VCALENDAR
