BEGIN:VCALENDAR
VERSION:2.0
PRODID:-//law.utexas.edu//Course Schedule//EN
CALSCALE:GREGORIAN
METHOD:PUBLISH
BEGIN:VTIMEZONE
TZID:America/Chicago
X-LIC-LOCATION:America/Chicago
BEGIN:DAYLIGHT
TZOFFSETFROM:-0600
TZOFFSETTO:-0500
TZNAME:CDT
DTSTART:19700308T020000
RRULE:FREQ=YEARLY;BYMONTH=3;BYDAY=2SU
END:DAYLIGHT
BEGIN:STANDARD
TZOFFSETFROM:-0500
TZOFFSETTO:-0600
TZNAME:CST
DTSTART:19701101T020000
RRULE:FREQ=YEARLY;BYMONTH=11;BYDAY=1SU
END:STANDARD
END:VTIMEZONE
BEGIN:VEVENT
SUMMARY:SMNR: Endangered Species Act & Climate Change
LOCATION:TNH 3.127
DTSTART;TZID=America/Chicago:20260427T124500
DTEND;TZID=America/Chicago:20260427T142500
RRULE:FREQ=WEEKLY;BYDAY=MO,TU,WE;UNTIL=20260424T220000
UID:86f3931bb80075aa0ae455917674b3dc
DTSTAMP:20260424T130310
DESCRIPTION:Instructors: Melinda E. Taylor
END:VEVENT
END:VCALENDAR
