BEGIN:VCALENDAR
VERSION:2.0
PRODID:-//law.utexas.edu//Course Schedule//EN
CALSCALE:GREGORIAN
METHOD:PUBLISH
BEGIN:VTIMEZONE
TZID:America/Chicago
X-LIC-LOCATION:America/Chicago
BEGIN:DAYLIGHT
TZOFFSETFROM:-0600
TZOFFSETTO:-0500
TZNAME:CDT
DTSTART:19700308T020000
RRULE:FREQ=YEARLY;BYMONTH=3;BYDAY=2SU
END:DAYLIGHT
BEGIN:STANDARD
TZOFFSETFROM:-0500
TZOFFSETTO:-0600
TZNAME:CST
DTSTART:19701101T020000
RRULE:FREQ=YEARLY;BYMONTH=11;BYDAY=1SU
END:STANDARD
END:VTIMEZONE
BEGIN:VEVENT
SUMMARY:Contracts
LOCATION:TNH 3.142
DTSTART;TZID=America/Chicago:20260420T121500
DTEND;TZID=America/Chicago:20260420T130500
RRULE:FREQ=WEEKLY;BYDAY=MO,WE;UNTIL=20260420T220000
UID:a829fd8fb27fc83048e812c8e36d3663
DTSTAMP:20260420T112514
DESCRIPTION:Instructors: David S. Sokolow
END:VEVENT
BEGIN:VEVENT
SUMMARY:Contracts
LOCATION:TNH 3.142
DTSTART;TZID=America/Chicago:20260421T092500
DTEND;TZID=America/Chicago:20260421T101500
RRULE:FREQ=WEEKLY;BYDAY=TU,TH;UNTIL=20260420T220000
UID:ed47349eefba192542fec857bb36c918
DTSTAMP:20260420T112514
DESCRIPTION:Instructors: David S. Sokolow
END:VEVENT
END:VCALENDAR
