BEGIN:VCALENDAR
VERSION:2.0
PRODID:-//law.utexas.edu//Course Schedule//EN
CALSCALE:GREGORIAN
METHOD:PUBLISH
BEGIN:VTIMEZONE
TZID:America/Chicago
X-LIC-LOCATION:America/Chicago
BEGIN:DAYLIGHT
TZOFFSETFROM:-0600
TZOFFSETTO:-0500
TZNAME:CDT
DTSTART:19700308T020000
RRULE:FREQ=YEARLY;BYMONTH=3;BYDAY=2SU
END:DAYLIGHT
BEGIN:STANDARD
TZOFFSETFROM:-0500
TZOFFSETTO:-0600
TZNAME:CST
DTSTART:19701101T020000
RRULE:FREQ=YEARLY;BYMONTH=11;BYDAY=1SU
END:STANDARD
END:VTIMEZONE
BEGIN:VEVENT
SUMMARY:Criminal Law I
LOCATION:TNH 2.137
DTSTART;TZID=America/Chicago:20260420T115000
DTEND;TZID=America/Chicago:20260420T125700
RRULE:FREQ=WEEKLY;BYDAY=MO;UNTIL=20260419T220000
UID:880232c10dac3f966128b09ef1dd9a94
DTSTAMP:20260419T095635
DESCRIPTION:Instructors: Susan R. Klein
END:VEVENT
BEGIN:VEVENT
SUMMARY:Criminal Law I
LOCATION:TNH 2.137
DTSTART;TZID=America/Chicago:20260422T130500
DTEND;TZID=America/Chicago:20260422T141200
RRULE:FREQ=WEEKLY;BYDAY=WE,TH;UNTIL=20260419T220000
UID:fd7b2c94babe354d82b89c0cc65ad6a9
DTSTAMP:20260419T095635
DESCRIPTION:Instructors: Susan R. Klein
END:VEVENT
END:VCALENDAR
