BEGIN:VCALENDAR
VERSION:2.0
PRODID:-//law.utexas.edu//Course Schedule//EN
CALSCALE:GREGORIAN
METHOD:PUBLISH
BEGIN:VTIMEZONE
TZID:America/Chicago
X-LIC-LOCATION:America/Chicago
BEGIN:DAYLIGHT
TZOFFSETFROM:-0600
TZOFFSETTO:-0500
TZNAME:CDT
DTSTART:19700308T020000
RRULE:FREQ=YEARLY;BYMONTH=3;BYDAY=2SU
END:DAYLIGHT
BEGIN:STANDARD
TZOFFSETFROM:-0500
TZOFFSETTO:-0600
TZNAME:CST
DTSTART:19701101T020000
RRULE:FREQ=YEARLY;BYMONTH=11;BYDAY=1SU
END:STANDARD
END:VTIMEZONE
BEGIN:VEVENT
SUMMARY:Legal Research & Legal Writing
LOCATION:TNH 3.126
DTSTART;TZID=America/Chicago:20260422T115000
DTEND;TZID=America/Chicago:20260422T130000
RRULE:FREQ=WEEKLY;BYDAY=WE;UNTIL=20260419T220000
UID:256c5d8c8e8172fc01beaa2bf51b5069
DTSTAMP:20260419T171747
DESCRIPTION:Instructors: Sean J. Petrie
END:VEVENT
BEGIN:VEVENT
SUMMARY:Legal Research & Legal Writing
LOCATION:TNH 3.126
DTSTART;TZID=America/Chicago:20260423T103000
DTEND;TZID=America/Chicago:20260423T113700
RRULE:FREQ=WEEKLY;BYDAY=TH;UNTIL=20260419T220000
UID:1f3ec48f750e4dd0e2bc51616bea0249
DTSTAMP:20260419T171747
DESCRIPTION:Instructors: Sean J. Petrie
END:VEVENT
END:VCALENDAR
