BEGIN:VCALENDAR
VERSION:2.0
PRODID:-//law.utexas.edu//Course Schedule//EN
CALSCALE:GREGORIAN
METHOD:PUBLISH
BEGIN:VTIMEZONE
TZID:America/Chicago
X-LIC-LOCATION:America/Chicago
BEGIN:DAYLIGHT
TZOFFSETFROM:-0600
TZOFFSETTO:-0500
TZNAME:CDT
DTSTART:19700308T020000
RRULE:FREQ=YEARLY;BYMONTH=3;BYDAY=2SU
END:DAYLIGHT
BEGIN:STANDARD
TZOFFSETFROM:-0500
TZOFFSETTO:-0600
TZNAME:CST
DTSTART:19701101T020000
RRULE:FREQ=YEARLY;BYMONTH=11;BYDAY=1SU
END:STANDARD
END:VTIMEZONE
BEGIN:VEVENT
SUMMARY:Environmental Law & Natural Resources
LOCATION:TNH 3.125
DTSTART;TZID=America/Chicago:20260427T154500
DTEND;TZID=America/Chicago:20260427T163500
RRULE:FREQ=WEEKLY;BYDAY=MO,TU,WE;UNTIL=20260424T220000
UID:869b85550fb12eaaa728694db6ebbd9e
DTSTAMP:20260424T141409
DESCRIPTION:Instructors: Melinda E. Taylor
END:VEVENT
END:VCALENDAR
