BEGIN:VCALENDAR
VERSION:2.0
PRODID:-//law.utexas.edu//Course Schedule//EN
CALSCALE:GREGORIAN
METHOD:PUBLISH
BEGIN:VTIMEZONE
TZID:America/Chicago
X-LIC-LOCATION:America/Chicago
BEGIN:DAYLIGHT
TZOFFSETFROM:-0600
TZOFFSETTO:-0500
TZNAME:CDT
DTSTART:19700308T020000
RRULE:FREQ=YEARLY;BYMONTH=3;BYDAY=2SU
END:DAYLIGHT
BEGIN:STANDARD
TZOFFSETFROM:-0500
TZOFFSETTO:-0600
TZNAME:CST
DTSTART:19701101T020000
RRULE:FREQ=YEARLY;BYMONTH=11;BYDAY=1SU
END:STANDARD
END:VTIMEZONE
BEGIN:VEVENT
SUMMARY:Alternative Investments: Lack of Regulation/Bailouts
LOCATION:TNH 2.140
DTSTART;TZID=America/Chicago:20260420T154500
DTEND;TZID=America/Chicago:20260420T181500
RRULE:FREQ=WEEKLY;BYDAY=MO;UNTIL=20260419T220000
UID:d02f792e7df8fdd817db01374abff623
DTSTAMP:20260419T143504
DESCRIPTION:Instructors: Daniel J. Young
END:VEVENT
END:VCALENDAR
