BEGIN:VCALENDAR
VERSION:2.0
PRODID:-//law.utexas.edu//Course Schedule//EN
CALSCALE:GREGORIAN
METHOD:PUBLISH
BEGIN:VTIMEZONE
TZID:America/Chicago
X-LIC-LOCATION:America/Chicago
BEGIN:DAYLIGHT
TZOFFSETFROM:-0600
TZOFFSETTO:-0500
TZNAME:CDT
DTSTART:19700308T020000
RRULE:FREQ=YEARLY;BYMONTH=3;BYDAY=2SU
END:DAYLIGHT
BEGIN:STANDARD
TZOFFSETFROM:-0500
TZOFFSETTO:-0600
TZNAME:CST
DTSTART:19701101T020000
RRULE:FREQ=YEARLY;BYMONTH=11;BYDAY=1SU
END:STANDARD
END:VTIMEZONE
BEGIN:VEVENT
SUMMARY:Constitutional Law I
LOCATION:TNH 2.123
DTSTART;TZID=America/Chicago:20260420T091000
DTEND;TZID=America/Chicago:20260420T101700
RRULE:FREQ=WEEKLY;BYDAY=MO,TU,WE;UNTIL=20260419T220000
UID:739c135546a4ad58d4fd070f35eaaa59
DTSTAMP:20260419T131626
DESCRIPTION:Instructors: H. W. Perry Jr
END:VEVENT
END:VCALENDAR
