BEGIN:VCALENDAR
VERSION:2.0
PRODID:-//law.utexas.edu//Course Schedule//EN
CALSCALE:GREGORIAN
METHOD:PUBLISH
BEGIN:VTIMEZONE
TZID:America/Chicago
X-LIC-LOCATION:America/Chicago
BEGIN:DAYLIGHT
TZOFFSETFROM:-0600
TZOFFSETTO:-0500
TZNAME:CDT
DTSTART:19700308T020000
RRULE:FREQ=YEARLY;BYMONTH=3;BYDAY=2SU
END:DAYLIGHT
BEGIN:STANDARD
TZOFFSETFROM:-0500
TZOFFSETTO:-0600
TZNAME:CST
DTSTART:19701101T020000
RRULE:FREQ=YEARLY;BYMONTH=11;BYDAY=1SU
END:STANDARD
END:VTIMEZONE
BEGIN:VEVENT
SUMMARY:Clinic: Entrepreneurship/Community Development
LOCATION:TNH 3.114
DTSTART;TZID=America/Chicago:20260427T141500
DTEND;TZID=America/Chicago:20260427T161500
RRULE:FREQ=WEEKLY;BYDAY=MO;UNTIL=20260421T220000
UID:91eb748ae6be06777161d4c7501ba417
DTSTAMP:20260421T202410
DESCRIPTION:Instructors: Eliza T. Platts-Mills, Frances Leos Martinez, Heather K. Way
END:VEVENT
BEGIN:VEVENT
SUMMARY:Clinic: Entrepreneurship/Community Development
LOCATION:CCJ 3.306
DTSTART;TZID=America/Chicago:20260423T091000
DTEND;TZID=America/Chicago:20260423T100000
RRULE:FREQ=WEEKLY;BYDAY=TH;UNTIL=20260421T220000
UID:9ec5dd7bc8a3a9b180fd6ed71287c1dd
DTSTAMP:20260421T202410
DESCRIPTION:Instructors: Eliza T. Platts-Mills, Frances Leos Martinez, Heather K. Way
END:VEVENT
END:VCALENDAR
