BEGIN:VCALENDAR
VERSION:2.0
PRODID:-//law.utexas.edu//Course Schedule//EN
CALSCALE:GREGORIAN
METHOD:PUBLISH
BEGIN:VTIMEZONE
TZID:America/Chicago
X-LIC-LOCATION:America/Chicago
BEGIN:DAYLIGHT
TZOFFSETFROM:-0600
TZOFFSETTO:-0500
TZNAME:CDT
DTSTART:19700308T020000
RRULE:FREQ=YEARLY;BYMONTH=3;BYDAY=2SU
END:DAYLIGHT
BEGIN:STANDARD
TZOFFSETFROM:-0500
TZOFFSETTO:-0600
TZNAME:CST
DTSTART:19701101T020000
RRULE:FREQ=YEARLY;BYMONTH=11;BYDAY=1SU
END:STANDARD
END:VTIMEZONE
BEGIN:VEVENT
SUMMARY:SMNR: Global Challenges: Strategy, Law, & Diplomacy
LOCATION:SRH 3.221
DTSTART;TZID=America/Chicago:20260429T140000
DTEND;TZID=America/Chicago:20260429T170000
RRULE:FREQ=WEEKLY;BYDAY=WE;UNTIL=20260423T220000
UID:c2d440e5a8948b98e8f60994d1df8f33
DTSTAMP:20260423T115010
DESCRIPTION:Instructors: David E. Adelman, Jeremi Suri
END:VEVENT
END:VCALENDAR
