BEGIN:VCALENDAR
VERSION:2.0
PRODID:-//law.utexas.edu//Course Schedule//EN
CALSCALE:GREGORIAN
METHOD:PUBLISH
BEGIN:VTIMEZONE
TZID:America/Chicago
X-LIC-LOCATION:America/Chicago
BEGIN:DAYLIGHT
TZOFFSETFROM:-0600
TZOFFSETTO:-0500
TZNAME:CDT
DTSTART:19700308T020000
RRULE:FREQ=YEARLY;BYMONTH=3;BYDAY=2SU
END:DAYLIGHT
BEGIN:STANDARD
TZOFFSETFROM:-0500
TZOFFSETTO:-0600
TZNAME:CST
DTSTART:19701101T020000
RRULE:FREQ=YEARLY;BYMONTH=11;BYDAY=1SU
END:STANDARD
END:VTIMEZONE
BEGIN:VEVENT
SUMMARY:Antitrust: Economic Analysis/Legal Interpretation
LOCATION:TNH 3.114
DTSTART;TZID=America/Chicago:20260420T141500
DTEND;TZID=America/Chicago:20260420T152200
RRULE:FREQ=WEEKLY;BYDAY=MO,TU,WE;UNTIL=20260419T220000
UID:0cbaa2b9f5619e764f3da24bb85a23e8
DTSTAMP:20260419T113119
DESCRIPTION:Instructors: Richard S. Markovits
END:VEVENT
END:VCALENDAR
