BEGIN:VCALENDAR
VERSION:2.0
PRODID:-//law.utexas.edu//Course Schedule//EN
CALSCALE:GREGORIAN
METHOD:PUBLISH
BEGIN:VTIMEZONE
TZID:America/Chicago
X-LIC-LOCATION:America/Chicago
BEGIN:DAYLIGHT
TZOFFSETFROM:-0600
TZOFFSETTO:-0500
TZNAME:CDT
DTSTART:19700308T020000
RRULE:FREQ=YEARLY;BYMONTH=3;BYDAY=2SU
END:DAYLIGHT
BEGIN:STANDARD
TZOFFSETFROM:-0500
TZOFFSETTO:-0600
TZNAME:CST
DTSTART:19701101T020000
RRULE:FREQ=YEARLY;BYMONTH=11;BYDAY=1SU
END:STANDARD
END:VTIMEZONE
BEGIN:VEVENT
SUMMARY:SMNR: Evidence, Advanced
LOCATION:JON 5.208
DTSTART;TZID=America/Chicago:20260423T141500
DTEND;TZID=America/Chicago:20260423T160500
RRULE:FREQ=WEEKLY;BYDAY=TH;UNTIL=20260419T220000
UID:d28f192f41d76753779f5f26d43c70a3
DTSTAMP:20260419T072121
DESCRIPTION:Instructors: Steven Goode
END:VEVENT
END:VCALENDAR
