BEGIN:VCALENDAR
VERSION:2.0
PRODID:-//law.utexas.edu//Course Schedule//EN
CALSCALE:GREGORIAN
METHOD:PUBLISH
BEGIN:VTIMEZONE
TZID:America/Chicago
X-LIC-LOCATION:America/Chicago
BEGIN:DAYLIGHT
TZOFFSETFROM:-0600
TZOFFSETTO:-0500
TZNAME:CDT
DTSTART:19700308T020000
RRULE:FREQ=YEARLY;BYMONTH=3;BYDAY=2SU
END:DAYLIGHT
BEGIN:STANDARD
TZOFFSETFROM:-0500
TZOFFSETTO:-0600
TZNAME:CST
DTSTART:19701101T020000
RRULE:FREQ=YEARLY;BYMONTH=11;BYDAY=1SU
END:STANDARD
END:VTIMEZONE
BEGIN:VEVENT
SUMMARY:SMNR: Software/Video Game/Interactive Entertainment
LOCATION:JON 6.206
DTSTART;TZID=America/Chicago:20260421T174500
DTEND;TZID=America/Chicago:20260421T193500
RRULE:FREQ=WEEKLY;BYDAY=TU;UNTIL=20260419T220000
UID:ee423b942f967aea896c36c08ac2adc5
DTSTAMP:20260419T104302
DESCRIPTION:Instructors: Edward A. Cavazos
END:VEVENT
END:VCALENDAR
