BEGIN:VCALENDAR
VERSION:2.0
PRODID:-//law.utexas.edu//Course Schedule//EN
CALSCALE:GREGORIAN
METHOD:PUBLISH
BEGIN:VTIMEZONE
TZID:America/Chicago
X-LIC-LOCATION:America/Chicago
BEGIN:DAYLIGHT
TZOFFSETFROM:-0600
TZOFFSETTO:-0500
TZNAME:CDT
DTSTART:19700308T020000
RRULE:FREQ=YEARLY;BYMONTH=3;BYDAY=2SU
END:DAYLIGHT
BEGIN:STANDARD
TZOFFSETFROM:-0500
TZOFFSETTO:-0600
TZNAME:CST
DTSTART:19701101T020000
RRULE:FREQ=YEARLY;BYMONTH=11;BYDAY=1SU
END:STANDARD
END:VTIMEZONE
BEGIN:VEVENT
SUMMARY:Criminal Law I
LOCATION:TNH 2.124
DTSTART;TZID=America/Chicago:20260422T141500
DTEND;TZID=America/Chicago:20260422T160500
RRULE:FREQ=WEEKLY;BYDAY=WE;UNTIL=20260419T220000
UID:68403cbf9647bcd6855d20a0192bb702
DTSTAMP:20260419T152610
DESCRIPTION:Instructors: Graham B. Strong
END:VEVENT
BEGIN:VEVENT
SUMMARY:Criminal Law I
LOCATION:JON 5.206/207
DTSTART;TZID=America/Chicago:20260423T103000
DTEND;TZID=America/Chicago:20260423T122000
RRULE:FREQ=WEEKLY;BYDAY=TH;UNTIL=20260419T220000
UID:1129f897d2667290d2956a4bd88773d3
DTSTAMP:20260419T152610
DESCRIPTION:Instructors: Graham B. Strong
END:VEVENT
END:VCALENDAR
