BEGIN:VCALENDAR
VERSION:2.0
PRODID:-//law.utexas.edu//Course Schedule//EN
CALSCALE:GREGORIAN
METHOD:PUBLISH
BEGIN:VTIMEZONE
TZID:America/Chicago
X-LIC-LOCATION:America/Chicago
BEGIN:DAYLIGHT
TZOFFSETFROM:-0600
TZOFFSETTO:-0500
TZNAME:CDT
DTSTART:19700308T020000
RRULE:FREQ=YEARLY;BYMONTH=3;BYDAY=2SU
END:DAYLIGHT
BEGIN:STANDARD
TZOFFSETFROM:-0500
TZOFFSETTO:-0600
TZNAME:CST
DTSTART:19701101T020000
RRULE:FREQ=YEARLY;BYMONTH=11;BYDAY=1SU
END:STANDARD
END:VTIMEZONE
BEGIN:VEVENT
SUMMARY:Negotiation
LOCATION:TNH 3.126
DTSTART;TZID=America/Chicago:20260420T141500
DTEND;TZID=America/Chicago:20260420T153000
RRULE:FREQ=WEEKLY;BYDAY=MO,WE;UNTIL=20260419T220000
UID:c900445e63a6741f0ae22adcd872cc2d
DTSTAMP:20260419T171844
DESCRIPTION:Instructors: Jeffrey Robert Jury
END:VEVENT
END:VCALENDAR
