BEGIN:VCALENDAR
VERSION:2.0
PRODID:-//law.utexas.edu//Course Schedule//EN
CALSCALE:GREGORIAN
METHOD:PUBLISH
BEGIN:VTIMEZONE
TZID:America/Chicago
X-LIC-LOCATION:America/Chicago
BEGIN:DAYLIGHT
TZOFFSETFROM:-0600
TZOFFSETTO:-0500
TZNAME:CDT
DTSTART:19700308T020000
RRULE:FREQ=YEARLY;BYMONTH=3;BYDAY=2SU
END:DAYLIGHT
BEGIN:STANDARD
TZOFFSETFROM:-0500
TZOFFSETTO:-0600
TZNAME:CST
DTSTART:19701101T020000
RRULE:FREQ=YEARLY;BYMONTH=11;BYDAY=1SU
END:STANDARD
END:VTIMEZONE
BEGIN:VEVENT
SUMMARY:Legal Research & Legal Writing
LOCATION:TNH 2.124
DTSTART;TZID=America/Chicago:20260420T103000
DTEND;TZID=America/Chicago:20260420T113700
RRULE:FREQ=WEEKLY;BYDAY=MO;UNTIL=20260419T220000
UID:ed616d345750c5afaa93b47b2b371a62
DTSTAMP:20260419T172803
DESCRIPTION:Instructors: Sean J. Petrie
END:VEVENT
BEGIN:VEVENT
SUMMARY:Legal Research & Legal Writing
LOCATION:TNH 3.124
DTSTART;TZID=America/Chicago:20260421T103000
DTEND;TZID=America/Chicago:20260421T113700
RRULE:FREQ=WEEKLY;BYDAY=TU;UNTIL=20260419T220000
UID:6c03f4561354b49b0e7803d40290fd47
DTSTAMP:20260419T172803
DESCRIPTION:Instructors: Sean J. Petrie
END:VEVENT
END:VCALENDAR
