BEGIN:VCALENDAR
VERSION:2.0
PRODID:-//law.utexas.edu//Course Schedule//EN
CALSCALE:GREGORIAN
METHOD:PUBLISH
BEGIN:VTIMEZONE
TZID:America/Chicago
X-LIC-LOCATION:America/Chicago
BEGIN:DAYLIGHT
TZOFFSETFROM:-0600
TZOFFSETTO:-0500
TZNAME:CDT
DTSTART:19700308T020000
RRULE:FREQ=YEARLY;BYMONTH=3;BYDAY=2SU
END:DAYLIGHT
BEGIN:STANDARD
TZOFFSETFROM:-0500
TZOFFSETTO:-0600
TZNAME:CST
DTSTART:19701101T020000
RRULE:FREQ=YEARLY;BYMONTH=11;BYDAY=1SU
END:STANDARD
END:VTIMEZONE
BEGIN:VEVENT
SUMMARY:SMNR: Regulation of Financial Markets
LOCATION:JON 5.206/207
DTSTART;TZID=America/Chicago:20260423T161500
DTEND;TZID=America/Chicago:20260423T180500
RRULE:FREQ=WEEKLY;BYDAY=TH;UNTIL=20260419T220000
UID:3ca3c242bcdf69add9c12cb3aa008ba0
DTSTAMP:20260419T072140
DESCRIPTION:Instructors: William F. Stutts
END:VEVENT
END:VCALENDAR
