BEGIN:VCALENDAR
VERSION:2.0
PRODID:-//law.utexas.edu//Course Schedule//EN
CALSCALE:GREGORIAN
METHOD:PUBLISH
BEGIN:VTIMEZONE
TZID:America/Chicago
X-LIC-LOCATION:America/Chicago
BEGIN:DAYLIGHT
TZOFFSETFROM:-0600
TZOFFSETTO:-0500
TZNAME:CDT
DTSTART:19700308T020000
RRULE:FREQ=YEARLY;BYMONTH=3;BYDAY=2SU
END:DAYLIGHT
BEGIN:STANDARD
TZOFFSETFROM:-0500
TZOFFSETTO:-0600
TZNAME:CST
DTSTART:19701101T020000
RRULE:FREQ=YEARLY;BYMONTH=11;BYDAY=1SU
END:STANDARD
END:VTIMEZONE
BEGIN:VEVENT
SUMMARY:Clinic: Transnational Worker Rights
LOCATION:JON 6.206
DTSTART;TZID=America/Chicago:20260422T144500
DTEND;TZID=America/Chicago:20260422T164500
RRULE:FREQ=WEEKLY;BYDAY=WE;UNTIL=20260419T220000
UID:b7c7ce0ab4d5e62742d60d768add0dbf
DTSTAMP:20260419T122729
DESCRIPTION:Instructors: William Hamer Beardall Jr.
END:VEVENT
END:VCALENDAR
