BEGIN:VCALENDAR
VERSION:2.0
PRODID:-//law.utexas.edu//Course Schedule//EN
CALSCALE:GREGORIAN
METHOD:PUBLISH
BEGIN:VTIMEZONE
TZID:America/Chicago
X-LIC-LOCATION:America/Chicago
BEGIN:DAYLIGHT
TZOFFSETFROM:-0600
TZOFFSETTO:-0500
TZNAME:CDT
DTSTART:19700308T020000
RRULE:FREQ=YEARLY;BYMONTH=3;BYDAY=2SU
END:DAYLIGHT
BEGIN:STANDARD
TZOFFSETFROM:-0500
TZOFFSETTO:-0600
TZNAME:CST
DTSTART:19701101T020000
RRULE:FREQ=YEARLY;BYMONTH=11;BYDAY=1SU
END:STANDARD
END:VTIMEZONE
BEGIN:VEVENT
SUMMARY:Mediation
LOCATION:TNH 3.142
DTSTART;TZID=America/Chicago:20260420T115000
DTEND;TZID=America/Chicago:20260420T130500
RRULE:FREQ=WEEKLY;BYDAY=MO;UNTIL=20260419T220000
UID:2f55987e1127e30ab3df7700586f5ddb
DTSTAMP:20260419T102406
DESCRIPTION:Instructors: Jeffrey Robert Jury
END:VEVENT
BEGIN:VEVENT
SUMMARY:Mediation
LOCATION:TNH 3.124
DTSTART;TZID=America/Chicago:20260422T115000
DTEND;TZID=America/Chicago:20260422T130500
RRULE:FREQ=WEEKLY;BYDAY=WE;UNTIL=20260419T220000
UID:9097f2cc29f2b9cb39d555518ff88966
DTSTAMP:20260419T102406
DESCRIPTION:Instructors: Jeffrey Robert Jury
END:VEVENT
END:VCALENDAR
