BEGIN:VCALENDAR
VERSION:2.0
PRODID:-//law.utexas.edu//Course Schedule//EN
CALSCALE:GREGORIAN
METHOD:PUBLISH
BEGIN:VTIMEZONE
TZID:America/Chicago
X-LIC-LOCATION:America/Chicago
BEGIN:DAYLIGHT
TZOFFSETFROM:-0600
TZOFFSETTO:-0500
TZNAME:CDT
DTSTART:19700308T020000
RRULE:FREQ=YEARLY;BYMONTH=3;BYDAY=2SU
END:DAYLIGHT
BEGIN:STANDARD
TZOFFSETFROM:-0500
TZOFFSETTO:-0600
TZNAME:CST
DTSTART:19701101T020000
RRULE:FREQ=YEARLY;BYMONTH=11;BYDAY=1SU
END:STANDARD
END:VTIMEZONE
BEGIN:VEVENT
SUMMARY:Reading Group: Reading the Federalist in the 21st Century
LOCATION:TNH 6.257
DTSTART;TZID=America/Chicago:20260427T154500
DTEND;TZID=America/Chicago:20260427T173500
RRULE:FREQ=WEEKLY;BYDAY=MO;UNTIL=20260424T220000
UID:23f1068251c57e65a3b2d179840e86d3
DTSTAMP:20260424T135916
DESCRIPTION:Instructors: Philip C. Bobbitt, Sanford V. Levinson
END:VEVENT
END:VCALENDAR
