BEGIN:VCALENDAR
VERSION:2.0
PRODID:-//law.utexas.edu//Course Schedule//EN
CALSCALE:GREGORIAN
METHOD:PUBLISH
BEGIN:VTIMEZONE
TZID:America/Chicago
X-LIC-LOCATION:America/Chicago
BEGIN:DAYLIGHT
TZOFFSETFROM:-0600
TZOFFSETTO:-0500
TZNAME:CDT
DTSTART:19700308T020000
RRULE:FREQ=YEARLY;BYMONTH=3;BYDAY=2SU
END:DAYLIGHT
BEGIN:STANDARD
TZOFFSETFROM:-0500
TZOFFSETTO:-0600
TZNAME:CST
DTSTART:19701101T020000
RRULE:FREQ=YEARLY;BYMONTH=11;BYDAY=1SU
END:STANDARD
END:VTIMEZONE
BEGIN:VEVENT
SUMMARY:Alternative Dispute Resolution
LOCATION:JON 5.206/7
DTSTART;TZID=America/Chicago:20260420T081000
DTEND;TZID=America/Chicago:20260420T090000
RRULE:FREQ=WEEKLY;BYDAY=MO;UNTIL=20260419T220000
UID:103dc8f5b08a5186b8516972512a5a8d
DTSTAMP:20260419T115053
DESCRIPTION:Instructors: Mike Golden
END:VEVENT
BEGIN:VEVENT
SUMMARY:Alternative Dispute Resolution
LOCATION:JON 5.206/7
DTSTART;TZID=America/Chicago:20260422T081000
DTEND;TZID=America/Chicago:20260422T100000
RRULE:FREQ=WEEKLY;BYDAY=WE;UNTIL=20260419T220000
UID:4b87be9d76deebbe6923f06a09fbe12f
DTSTAMP:20260419T115053
DESCRIPTION:Instructors: Mike Golden
END:VEVENT
END:VCALENDAR
